BEGIN:VCALENDAR
VERSION:2.0
PRODID:-//Volt Europa//Events//EN
CALSCALE:GREGORIAN
METHOD:PUBLISH
BEGIN:VEVENT
UID:join-the-diaspora-protest-in-the-netherlands-1716458400@voltshqiperi.or
 g
DTSTAMP:20260421T173119Z
DTSTART;TZID=Europe/Tirane:20240523T120000
DTEND;TZID=Europe/Tirane:20240523T170000
SUMMARY:Join the diaspora protest in the Netherlands
DESCRIPTION:
LOCATION:The Hague\, the Netherlands
URL:https://voltalbania.org/events/join-the-diaspora-protest-in-the-netherl
 ands
END:VEVENT
END:VCALENDAR
