BEGIN:VCALENDAR
VERSION:2.0
PRODID:-//Volt Europa//Events//EN
CALSCALE:GREGORIAN
METHOD:PUBLISH
BEGIN:VEVENT
UID:europe-day-volt-academy-1715239800@voltshqiperi.org
DTSTAMP:20260424T090349Z
DTSTART;TZID=Europe/Tirane:20240509T093000
DTEND;TZID=Europe/Tirane:20240509T123000
SUMMARY:Europe day - Volt Academy - Learn to know the EU better
DESCRIPTION:09:30 - Greetings 09:35 - Introduction of the event and History
  of E.U. – History - personal experiences by European Citizen (Cosimo Bru
 no) 09:50 - Brief Introduction and overview over the Moonshot Program for c
 itizens (Konrad Ritter) 10:00 - Participants fill out selected quizzes. 10:
 30 - Inter-active review of selected quizzes\, focusing on questions which 
 a majority had difficulty with (Understanding question\, wrong answers\, et
 c). 11:30 - Role – play 12:30 - Closure
LOCATION:Collega University REALD - Vlorë & Online livestream
URL:https://voltalbania.org/events/europe-day-volt-academy
END:VEVENT
END:VCALENDAR
